BEGIN:VCALENDAR
VERSION:2.0
PRODID:-//Gurripatos de Malaga - ECPv6.15.18//NONSGML v1.0//EN
CALSCALE:GREGORIAN
METHOD:PUBLISH
X-WR-CALNAME:Gurripatos de Malaga
X-ORIGINAL-URL:https://gurripatos.com
X-WR-CALDESC:Eventos para Gurripatos de Malaga
REFRESH-INTERVAL;VALUE=DURATION:PT1H
X-Robots-Tag:noindex
X-PUBLISHED-TTL:PT1H
BEGIN:VTIMEZONE
TZID:Europe/Madrid
BEGIN:DAYLIGHT
TZOFFSETFROM:+0100
TZOFFSETTO:+0200
TZNAME:CEST
DTSTART:20240331T010000
END:DAYLIGHT
BEGIN:STANDARD
TZOFFSETFROM:+0200
TZOFFSETTO:+0100
TZNAME:CET
DTSTART:20241027T010000
END:STANDARD
BEGIN:DAYLIGHT
TZOFFSETFROM:+0100
TZOFFSETTO:+0200
TZNAME:CEST
DTSTART:20250330T010000
END:DAYLIGHT
BEGIN:STANDARD
TZOFFSETFROM:+0200
TZOFFSETTO:+0100
TZNAME:CET
DTSTART:20251026T010000
END:STANDARD
BEGIN:DAYLIGHT
TZOFFSETFROM:+0100
TZOFFSETTO:+0200
TZNAME:CEST
DTSTART:20260329T010000
END:DAYLIGHT
BEGIN:STANDARD
TZOFFSETFROM:+0200
TZOFFSETTO:+0100
TZNAME:CET
DTSTART:20261025T010000
END:STANDARD
END:VTIMEZONE
BEGIN:VEVENT
DTSTART;TZID=Europe/Madrid:20251210T103000
DTEND;TZID=Europe/Madrid:20251210T160000
DTSTAMP:20260424T161132
CREATED:20251118T092320Z
LAST-MODIFIED:20251118T093009Z
UID:5513-1765362600-1765382400@gurripatos.com
SUMMARY:FESTIVIDAD VIRGEN DE LORETO 2025
DESCRIPTION:Asociación de Veteranos del E.A. y del Espacio\n\n“Gurripatos” de Málaga\n\nFESTIVIDAD VIRGEN DE LORETO\n  \nQueridos Compañeros: \nPor medio de la presente os informo\, que el próximo miércoles 10 de Diciembre se llevará a cabo en ésta Base Aérea\, la Festividad de Nuestra Señora la Virgen de Loreto\, Patrona de nuestro Ejército del Aire y del Espacio. \nEl Coronel de la Base\, el Ilmo. Sr. D. Javier Velasco Humanes nos autoriza a que los afiliados de esta Asociación puedan asistir a los actos de la Patrona en compañía de sus Esposas/Parejas. \nLas normativas para ese día son las siguientes: \n\nPara poder entrar a la Base ese día\, es IMPRESCINDIBLE estar al corriente de pago. El que no cumpla este requisito\, no podrá pasar.\nLos afiliados que deseen asistir deberán llamar o mandar mensaje de whatsApp al teléfono de nuestra Asociación n.º 618 141 706\, e indicar su nombre\, apellidos\, DNI\, así como\, los datos de su Esposa/Pareja que le acompañará.\n\nDe no asistir la Esposa/Pareja\, esta persona no podrá ser sustituida por ninguna otra\, ya sea hijo\, hermano\,amigo\, etc. \n\nSe aconseja asistir con UNIFORMIDAD DE INVIERNO. Aquellos que no lo tengan podrán hacerlo con ropa adecuada al acto (chaqueta y corbata).\nLa fecha para inscribirse finaliza el jueves día 27 de Noviembre. A partir de ese momento no será posible apuntar a ningún otro afiliado.\nSerá imprescindible llevar consigo el DNI\, tanto del afiliado como de la Esposa/Pareja para poder acceder a la Base. Una vez en el interior de la misma\, se atenderán todas las\n\n  \nindicaciones de la Policía Aérea. \nUn fuerte abrazo. \nMálaga a\, 17 de Noviembre de 2025 \n– José Luis Martos Morilla          Presidente \n  \nHORARIOS: \nEntrada a la Base: 10:30 horas \nSanta Misa: 11:00 horas \nActo Militar: 12:30 horas
URL:https://gurripatos.com/evento/festividad-virgen-de-loreto/
END:VEVENT
END:VCALENDAR