BEGIN:VCALENDAR
VERSION:2.0
PRODID:-//Gurripatos de Malaga - ECPv6.15.18//NONSGML v1.0//EN
CALSCALE:GREGORIAN
METHOD:PUBLISH
X-WR-CALNAME:Gurripatos de Malaga
X-ORIGINAL-URL:https://gurripatos.com
X-WR-CALDESC:Eventos para Gurripatos de Malaga
REFRESH-INTERVAL;VALUE=DURATION:PT1H
X-Robots-Tag:noindex
X-PUBLISHED-TTL:PT1H
BEGIN:VTIMEZONE
TZID:Europe/Madrid
BEGIN:DAYLIGHT
TZOFFSETFROM:+0100
TZOFFSETTO:+0200
TZNAME:CEST
DTSTART:20250330T010000
END:DAYLIGHT
BEGIN:STANDARD
TZOFFSETFROM:+0200
TZOFFSETTO:+0100
TZNAME:CET
DTSTART:20251026T010000
END:STANDARD
BEGIN:DAYLIGHT
TZOFFSETFROM:+0100
TZOFFSETTO:+0200
TZNAME:CEST
DTSTART:20260329T010000
END:DAYLIGHT
BEGIN:STANDARD
TZOFFSETFROM:+0200
TZOFFSETTO:+0100
TZNAME:CET
DTSTART:20261025T010000
END:STANDARD
BEGIN:DAYLIGHT
TZOFFSETFROM:+0100
TZOFFSETTO:+0200
TZNAME:CEST
DTSTART:20270328T010000
END:DAYLIGHT
BEGIN:STANDARD
TZOFFSETFROM:+0200
TZOFFSETTO:+0100
TZNAME:CET
DTSTART:20271031T010000
END:STANDARD
END:VTIMEZONE
BEGIN:VEVENT
DTSTART;TZID=Europe/Madrid:20260419T123000
DTEND;TZID=Europe/Madrid:20260419T190000
DTSTAMP:20260424T125816
CREATED:20260326T115235Z
LAST-MODIFIED:20260326T120018Z
UID:5746-1776601800-1776625200@gurripatos.com
SUMMARY:Comida fraternidad de la Real Hermandad 2026
DESCRIPTION:2026-02-22 – Saluda San Hermenegildo a Don Jose Luis Martos Morilla
URL:https://gurripatos.com/evento/comida-fraternidad-de-la-real-hermandad-2026/
END:VEVENT
END:VCALENDAR