BEGIN:VCALENDAR
VERSION:2.0
PRODID:-//Gurripatos de Malaga - ECPv6.15.18//NONSGML v1.0//EN
CALSCALE:GREGORIAN
METHOD:PUBLISH
X-WR-CALNAME:Gurripatos de Malaga
X-ORIGINAL-URL:https://gurripatos.com
X-WR-CALDESC:Eventos para Gurripatos de Malaga
REFRESH-INTERVAL;VALUE=DURATION:PT1H
X-Robots-Tag:noindex
X-PUBLISHED-TTL:PT1H
BEGIN:VTIMEZONE
TZID:Europe/Madrid
BEGIN:DAYLIGHT
TZOFFSETFROM:+0100
TZOFFSETTO:+0200
TZNAME:CEST
DTSTART:20240331T010000
END:DAYLIGHT
BEGIN:STANDARD
TZOFFSETFROM:+0200
TZOFFSETTO:+0100
TZNAME:CET
DTSTART:20241027T010000
END:STANDARD
BEGIN:DAYLIGHT
TZOFFSETFROM:+0100
TZOFFSETTO:+0200
TZNAME:CEST
DTSTART:20250330T010000
END:DAYLIGHT
BEGIN:STANDARD
TZOFFSETFROM:+0200
TZOFFSETTO:+0100
TZNAME:CET
DTSTART:20251026T010000
END:STANDARD
BEGIN:DAYLIGHT
TZOFFSETFROM:+0100
TZOFFSETTO:+0200
TZNAME:CEST
DTSTART:20260329T010000
END:DAYLIGHT
BEGIN:STANDARD
TZOFFSETFROM:+0200
TZOFFSETTO:+0100
TZNAME:CET
DTSTART:20261025T010000
END:STANDARD
END:VTIMEZONE
BEGIN:VEVENT
DTSTART;VALUE=DATE:20251018
DTEND;VALUE=DATE:20251019
DTSTAMP:20260421T045039
CREATED:20251002T120307Z
LAST-MODIFIED:20251002T120319Z
UID:5424-1760745600-1760831999@gurripatos.com
SUMMARY:DÍA DEL VETERANO
DESCRIPTION:Asociación\nVETERANOS DEL EJÉRCITO DEL AIRE Y DEL ESPACIO\nGurripatos de Málaga \nDÍA DEL VETERANO \nQueridos Compañeros:\nPara conocimiento de todos os manifiesto\, que de\nacuerdo con la información recibida de la Real Hermanda de Veteranos\nde las Fuerzas Armadas\, Guardia Civil y Policía Nacional\, el DÍA DEL\nVETERANO de este año se celebrará el 18 de octubre en la localidad de\nCádiz.\nLos aspectos más importantes de esta\nconcentración son los siguientes:\n– Nuestra asociación estará presente en dicho evento. El\ndirectivo Carlos Pardo\, portará el Banderín de nuestra\nAsociación y será la persona responsable del grupo. – En esta ocasión no se ha contratado autobús alguno. Tanto\nla ida como la vuelta se ha de realizar por medios propios – La vestimenta será la de invierno. – Los asociados interesados en asistir\, llamar a la asociación\,\nantes del próximo 5 de octubre\, facilitando su nombre y\napellidos. \nUn fuerte abrazo\n26 de septiembre de 2025
URL:https://gurripatos.com/evento/dia-del-veterano/
END:VEVENT
END:VCALENDAR