BEGIN:VCALENDAR
VERSION:2.0
PRODID:-//Gurripatos de Malaga - ECPv6.15.18//NONSGML v1.0//EN
CALSCALE:GREGORIAN
METHOD:PUBLISH
X-ORIGINAL-URL:https://gurripatos.com
X-WR-CALDESC:Eventos para Gurripatos de Malaga
REFRESH-INTERVAL;VALUE=DURATION:PT1H
X-Robots-Tag:noindex
X-PUBLISHED-TTL:PT1H
BEGIN:VTIMEZONE
TZID:Europe/Madrid
BEGIN:DAYLIGHT
TZOFFSETFROM:+0100
TZOFFSETTO:+0200
TZNAME:CEST
DTSTART:20240331T010000
END:DAYLIGHT
BEGIN:STANDARD
TZOFFSETFROM:+0200
TZOFFSETTO:+0100
TZNAME:CET
DTSTART:20241027T010000
END:STANDARD
BEGIN:DAYLIGHT
TZOFFSETFROM:+0100
TZOFFSETTO:+0200
TZNAME:CEST
DTSTART:20250330T010000
END:DAYLIGHT
BEGIN:STANDARD
TZOFFSETFROM:+0200
TZOFFSETTO:+0100
TZNAME:CET
DTSTART:20251026T010000
END:STANDARD
BEGIN:DAYLIGHT
TZOFFSETFROM:+0100
TZOFFSETTO:+0200
TZNAME:CEST
DTSTART:20260329T010000
END:DAYLIGHT
BEGIN:STANDARD
TZOFFSETFROM:+0200
TZOFFSETTO:+0100
TZNAME:CET
DTSTART:20261025T010000
END:STANDARD
END:VTIMEZONE
BEGIN:VEVENT
DTSTART;TZID=Europe/Madrid:20250906T210000
DTEND;TZID=Europe/Madrid:20250907T013000
DTSTAMP:20260424T043459
CREATED:20250724T205246Z
LAST-MODIFIED:20250724T210210Z
UID:5317-1757192400-1757208600@gurripatos.com
SUMMARY:Invitación a Procesión del Puerto de la Torre
DESCRIPTION:Grupo Parroquial Virgen del Carmen \nCalle Luna\, 2 \nJunta de los caminos\, Puerto de la Torre \nEl grupo parroquial Virgen del Carmen de la Junta de los Caminos se dirige a usted para invitarles a nuestra salida procesional extraordinaria 2025 que tendrá lugar el día 6  de Septiembre desde la iglesia de los Dolores del Puerto de la Torra a las 21:00 horas. \nSe ruega traer guion corporativo. \npara confirmar asistencia contactar con Don Antonio Guillen al Teléfono de la Asociación \n618141706 \n 
URL:https://gurripatos.com/evento/invitacion-a-procesion-del-puerto-de-la-torre/
CATEGORIES:25 Aniversario procesión Puerto de la Torre
END:VEVENT
END:VCALENDAR